{"text_format":"1","workbook":"xlsx","n_sheets":2,"sheets":["Výsledky kategorie2017(jaro)","Výsledky celkové 2017(jaro)"],"not_rendered":{"charts":0,"images":0,"macros":1,"external_links":0,"defined_names":0,"comments":0,"pivot_tables":0},"unopened":[],"bounds":{"document_bytes":16777216,"sheet_cells":100000,"rows_first":2000,"rows_last":500,"rows_between":2000,"halvings":0,"cell_chars":16384,"cell_head_chars":4096},"cells_cut":0,"cells_raw":0,"read":"whole","date_system":"1900"}

{"sheet":"Výsledky kategorie2017(jaro)","index":0,"n_rows":123,"n_cols":16,"rows_kept":123,"cut":false,"hidden":false,"merged":[[0,0,0,9],[2,0,2,9],[47,0,47,9],[1,3,1,5]]}
["79.běh jarní běh projektantů"]
[null,null,null,"2017-05-18"]
["VÝSLEDKY PO KATEGORIÍCH"]
[]
[null,null,null,null,"A-Muži"]
["Pořadí","Celkové","St.č.","Příjmení","Jméno","Jednota","ročník","kategorie.","Čas","Dif."]
[1,1,67,"MACH","TOMÁŠ","ZTĚLESNĚNÉ ZLO",1992,"A-Muži","00:12:26.890"]
[2,2,63,"CHYTIIL","DAVID","VSK UNI BRNO",1987,"A-Muži","00:12:49.150",{"$f":"I8-I$7","v":"00:00:22.260"}]
[3,3,61,"PLOE","Jaroslav",null,1984,"A-Muži","00:13:04.530","00:00:37.640"]
[4,4,62,"ELIAŠ","PETR","UMČ P12",1985,"A-Muži","00:14:05","00:01:38.110"]
[5,9,66,"PLETKA","LUBOŠ","ZBRASLAV",1977,"A-Muži","00:16:10.890","00:03:44"]
[6,14,64,"HURTÍK","PAVEL","VČELNIČNÁ",1978,"A-Muži","00:18:24.720","00:05:57.830"]
[7,17,65,"JINDRA","MAREK",null,1985,"A-Muži","00:19:16.870","00:06:49.980"]
[]
[null,null,null,null,"B1-Veteráni"]
["Pořadí","Celkové","St.č.","Příjmení","Jméno","Jednota","ročník","kategorie.","Čas","Dif."]
[1,13,27,"KOLLER","PAVEL","BEZDĚDICE",1970,"B1-Veteráni","00:17:50.800",{"$f":"I17-I$7","v":"00:05:23.910"}]
[2,15,26,"Drahorád","Pavel",null,1974,"B1-Veteráni","00:18:38.790","00:06:11.900"]
[3,19,25,"Šandera","Martin",null,1976,"B1-Veteráni","00:21:28.160","00:09:01.270"]
[null,null,null,null,"B2-Veteráni 1"]
[1,7,18,"VOČKO","JAN","SK VČELNIČNÁ",1960,"B2-Veteráni 1","00:15:21.560",{"$f":"I21-I$7","v":"00:02:54.670"}]
[2,11,19,"Mára","František",null,1967,"B2-Veteráni 1","00:17:16.300","00:04:49.410"]
[3,12,16,"Habásko","Milan",null,1958,"B2-Veteráni 1","00:17:25.030","00:04:58.140"]
[4,16,17,"ŠKEŘÍK","TOMÁŠ","PREdi",1963,";","00:19:07.280","00:06:40.390"]
[]
[null,null,null,null,"B3-Veteráni 2"]
["Pořadí","Celkové","St.č.","Příjmení","Jméno","Jednota","ročník","kategorie.","Čas","Dif."]
[1,5,10,"MINČEV","IVAN",null,1957,"B3-Veteráni 2","00:14:16.800",{"$f":"I28-I$7","v":"00:01:49.910"}]
[2,8,9,"Doležal","Jaromír","SABZO",1957,"B3-Veteráni 2","00:15:51.840","00:03:24.950"]
[3,10,8,"BRETT","LADISLAV","PSK OLYMP",1949,"B3-Veteráni 2","00:16:21.820","00:03:54.930"]
[4,23,11,"Puškař","Josef",null,1952,"B3-Veteráni 2","00:27:48.850","00:15:21.960"]
[]
[null,null,null,null,"B4- Veteráni 3"]
["Pořadí","Celkové","St.č.","Příjmení","Jméno","Jednota","ročník","kategorie.","Čas","Dif."]
[1,21,2,"JINDRA","JOSEF","LIGA 100 PRAHA",1944,"B4- Veteráni 3","00:25:08.730",{"$f":"I35-I$7","v":"00:12:41.840"}]
[2,22,1,"KORB","EDA",null,1940,"B4- Veteráni 3","00:25:14.530","00:12:47.640"]
[]
[null,null,null,null,"C2 - Starší děvčata"]
["Pořadí","Celkové","St.č.","Příjmení","Jméno","Jednota","ročník","kategorie.","Čas","Dif."]
[1,6,46,"FANTUROVÁ","LENKA","FTVS",1978,"C2 - Starší děvčata","00:14:31.800",{"$f":"I40-I$7","v":"00:02:04.910"}]
[2,18,47,"CIBULKOVÁ","JANA","PRAHA 2",1972,"C2 - Starší děvčata","00:19:19.300","00:06:52.410"]
[]
[null,null,null,null,"C3 - Ženy"]
["Pořadí","Celkové","St.č.","Příjmení","Jméno","Jednota","ročník","kategorie.","Čas","Dif."]
[1,20,38,"SOMMEROVÁ","IVANA","PRE",1967,"C3 - Ženy","00:23:55.830",{"$f":"I45-I$7","v":"00:11:28.940"}]
[2,24,37,"JINDROVÁ","JANA",null,1955,"C3 - Ženy","00:30:40.570","00:18:13.680"]
[]
["VÝSLEDKY PROJEKTANTI"]
["Pořadí","Celkové","start.č.","Příjmení","Jméno","jednota","ročník","kat.","Čas","POHL"]
[1,7,18,"VOČKO","JAN","SK VČELNIČNA",1960,"B2-Veteráni 1","00:15:21.560",{"$f":"I50-I$7","v":"00:02:54.670"}]
[2,10,8,"BRETT","LADISLAV","PSK OLYMP",1949,null,"00:16:21.820",{"$f":"I51-I$7","v":"00:03:54.930"}]
[3,14,64,"HURTÍK","PAVEL","VČELNIČNÁ",1978,"A","00:18:24.720",{"$f":"I52-I$7","v":"00:05:57.830"}]
[4,22,1,"KORB","EDA",null,1940,"B4","00:25:14.530",{"$f":"I53-I$7","v":"00:12:47.640"}]
[]
[]
[]
[]
[]
[]
[]
[]
[]
[]
[]
[]
[]
[]
[]
[]
[]
[]
[]
[]
[]
[]
[]
[]
[]
[]
[]
[]
[]
[]
[]
[]
[]
[]
[]
[]
[]
[]
[]
[]
[]
[]
[]
[]
[]
[]
[]
[]
[]
[]
[]
[]
[]
[]
[]
[]
[]
[]
[]
[]
[]
[]
[]
[]
[]
[]
[]
[]
[]
[null,null,null,null,null,null,null,null,null,null,null,null,null,null,null,"-"]

{"sheet":"Výsledky celkové 2017(jaro)","index":1,"n_rows":29,"n_cols":9,"rows_kept":29,"cut":false,"hidden":false,"merged":[[2,0,2,8],[0,0,0,8],[1,2,1,4]]}
["79.běh jarní běh projektantů"]
[null,null,"2017-05-18"]
["CELKOVÉ VÝSLEDKY"]
["Celkové","start.č.","Příjmení","Jméno","jednota","ročník","kat.","Čas","Dif."]
[]
[1,67,"MACH","TOMÁŠ","ZTĚLESNĚNÉ ZLO",1992,"A","00:12:26.890"]
[2,63,"CHYTIIL","DAVID","VSK UNI BRNO",1987,"A","00:12:49.150",{"$f":"H7-'Výsledky kategorie2017(jaro)'!I$7","v":"00:00:22.260"}]
[3,61,"PLOE","Jaroslav",null,1984,"A","00:13:04.530",{"$f":"H8-'Výsledky kategorie2017(jaro)'!I$7","v":"00:00:37.640"}]
[4,62,"ELIAŠ","PETR","UMČ P12",1985,"A","00:14:05",{"$f":"H9-'Výsledky kategorie2017(jaro)'!I$7","v":"00:01:38.110"}]
[5,10,"MINČEV","IVAN",null,1957,"B3","00:14:16.800",{"$f":"H10-'Výsledky kategorie2017(jaro)'!I$7","v":"00:01:49.910"}]
[6,46,"FANTUROVÁ","LENKA","FTVS",1978,"C2","00:14:31.800",{"$f":"H11-'Výsledky kategorie2017(jaro)'!I$7","v":"00:02:04.910"}]
[7,18,"VOČKO","JAN","SK VČELNIČKA",1960,"B2","00:15:21.560",{"$f":"H12-'Výsledky kategorie2017(jaro)'!I$7","v":"00:02:54.670"}]
[8,9,"Doležal","Jaromír","SABZO",1957,"B3","00:15:51.840",{"$f":"H13-'Výsledky kategorie2017(jaro)'!I$7","v":"00:03:24.950"}]
[9,66,"PLETKA","LUBOŠ","ZBRASLAV",1977,"A","00:16:10.890",{"$f":"H14-'Výsledky kategorie2017(jaro)'!I$7","v":"00:03:44"}]
[10,8,"BRETT","LADISLAV","PSK OLYMP",1949,"B3","00:16:21.820",{"$f":"H15-'Výsledky kategorie2017(jaro)'!I$7","v":"00:03:54.930"}]
[11,19,"Mára","František",null,1967,"B2","00:17:16.300",{"$f":"H16-'Výsledky kategorie2017(jaro)'!I$7","v":"00:04:49.410"}]
[12,16,"Habásko","Milan",null,1958,"B2","00:17:25.030",{"$f":"H17-'Výsledky kategorie2017(jaro)'!I$7","v":"00:04:58.140"}]
[13,27,"KOLLER","PAVEL","BEZDĚDICE",1970,"B1","00:17:50.800",{"$f":"H18-'Výsledky kategorie2017(jaro)'!I$7","v":"00:05:23.910"}]
[14,64,"HURTÍK","PAVEL","VČELNIČNÁ",1978,"A","00:18:24.720",{"$f":"H19-'Výsledky kategorie2017(jaro)'!I$7","v":"00:05:57.830"}]
[15,26,"Drahorád","Pavel",null,1974,"B1","00:18:38.790",{"$f":"H20-'Výsledky kategorie2017(jaro)'!I$7","v":"00:06:11.900"}]
[16,17,"ŠKEŘÍK","TOMÁŠ","PREdi",1963,"B2","00:19:07.280",{"$f":"H21-'Výsledky kategorie2017(jaro)'!I$7","v":"00:06:40.390"}]
[17,65,"JINDRA","MAREK",null,1985,"A","00:19:16.870",{"$f":"H22-'Výsledky kategorie2017(jaro)'!I$7","v":"00:06:49.980"}]
[18,47,"CIBULKOVÁ","JANA","PRAHA 2",1972,"C2","00:19:19.300",{"$f":"H23-'Výsledky kategorie2017(jaro)'!I$7","v":"00:06:52.410"}]
[19,28,"Šandera","Martin",null,1976,"B1","00:21:28.160",{"$f":"H24-'Výsledky kategorie2017(jaro)'!I$7","v":"00:09:01.270"}]
[20,38,"SOMMEROVÁ","IVANA","PRE",1967,"C3","00:23:55.830",{"$f":"H25-'Výsledky kategorie2017(jaro)'!I$7","v":"00:11:28.940"}]
[21,2,"JINDRA","JOSEF","LIGA 100 PRAHA",1944,"B4","00:25:08.730",{"$f":"H26-'Výsledky kategorie2017(jaro)'!I$7","v":"00:12:41.840"}]
[22,1,"KORB","EDA",null,1940,"B4","00:25:14.530",{"$f":"H27-'Výsledky kategorie2017(jaro)'!I$7","v":"00:12:47.640"}]
[23,11,"Puškař","Josef",null,1952,"B3","00:27:48.850",{"$f":"H28-'Výsledky kategorie2017(jaro)'!I$7","v":"00:15:21.960"}]
[24,37,"JINDROVÁ","JANA",null,1955,"C3","00:30:40.570",{"$f":"H29-'Výsledky kategorie2017(jaro)'!I$7","v":"00:18:13.680"}]